BEGIN:VCALENDAR
VERSION:2.0
PRODID:-//Plone.org//NONSGML plone.app.event//EN
X-WR-TIMEZONE:US/Eastern
BEGIN:VEVENT
SUMMARY:The Art of Herbal Tea
DTSTART;TZID=US/Eastern:20221013T173000
DTEND;TZID=US/Eastern:20221013T183000
DTSTAMP:20260420T011604Z
UID:1234ce694081476aa0f9f25750fed07c@saas_stack_varnish:6080
ATTENDEE;CN="Teens and Adults";ROLE=REQ-PARTICIPANT:Teens and Adults
CONTACT:Kelli Lovasz\, 810-688-2282\, northbranchlibary@northbranchlibrary
 .net
CREATED:20220930T153907Z
DESCRIPTION:Blend\, brew and enjoy an irresistible selection of herbal tea
 s while Bevin shares his knowledge on the history and folklore of the vari
 ous herbal ingredients. Document your impressions of each herb’s aroma a
 nd flavor as we explore the various layers of a well-crafted herbal tea. C
 reate a custom herbal tea to enjoy at home with an optional make and take 
 activity!
LAST-MODIFIED:20220930T153912Z
LOCATION:NBTL Meeting Room
URL:https://northbranch.ploud.net/news-events/lib-cal/the-art-of-herbal-te
 a
END:VEVENT
BEGIN:VTIMEZONE
TZID:US/Eastern
X-LIC-LOCATION:US/Eastern
BEGIN:DAYLIGHT
DTSTART:20220313T030000
TZNAME:EDT
TZOFFSETFROM:-0500
TZOFFSETTO:-0400
END:DAYLIGHT
END:VTIMEZONE
END:VCALENDAR
