BEGIN:VCALENDAR
VERSION:2.0
PRODID:-//Plone.org//NONSGML plone.app.event//EN
X-WR-TIMEZONE:US/Eastern
BEGIN:VEVENT
SUMMARY:The Balloon Man
DTSTART;TZID=US/Eastern:20170622T110000
DTEND;TZID=US/Eastern:20170622T120000
DTSTAMP:20260420T204753Z
UID:1f622b4c008b4f009dbf29d390960c78@saas_stack_varnish:6080
ATTENDEE;CN="Children's Program";ROLE=REQ-PARTICIPANT:Children's Program
CONTACT:Kelli Lovasz\, 810-688-2282\, northbranchlibrary@northbranchlibrar
 y.net
CREATED:20170515T191704Z
DESCRIPTION:Cameron Zvarra "The Balloon Man" will host a fun program with 
 lots of balloons and shapes.
LAST-MODIFIED:20170515T191709Z
LOCATION:NBTL
URL:https://northbranch.ploud.net/news-events/lib-cal/the-balloon-man
END:VEVENT
BEGIN:VTIMEZONE
TZID:US/Eastern
X-LIC-LOCATION:US/Eastern
BEGIN:DAYLIGHT
DTSTART:20170312T030000
TZNAME:EDT
TZOFFSETFROM:-0500
TZOFFSETTO:-0400
END:DAYLIGHT
END:VTIMEZONE
END:VCALENDAR
