BEGIN:VCALENDAR
VERSION:2.0
PRODID:-//Plone.org//NONSGML plone.app.event//EN
X-WR-TIMEZONE:US/Eastern
BEGIN:VEVENT
SUMMARY:The Bubble Man
DTSTART;TZID=US/Eastern:20220628T110000
DTEND;TZID=US/Eastern:20220628T120000
DTSTAMP:20260420T064653Z
UID:e84979afd2e1430896142763d3060cd6@saas_stack_varnish:6080
ATTENDEE;CN="Children's program";ROLE=REQ-PARTICIPANT:Children's program
CONTACT:Kelli Lovasz\, 810-688-2282\, northbranchlibary@northbranchlibrary
 .net
CREATED:20220525T185951Z
DESCRIPTION:Join us for this fun filled program.   The bubbleman will show
  us how to make unique bubbles with recycled products.  There will also be
  stations to have an opportunity to make your own.
LAST-MODIFIED:20220525T185957Z
LOCATION:NBTL
URL:https://northbranch.ploud.net/news-events/lib-cal/the-bubble-man
END:VEVENT
BEGIN:VTIMEZONE
TZID:US/Eastern
X-LIC-LOCATION:US/Eastern
BEGIN:DAYLIGHT
DTSTART:20220313T030000
TZNAME:EDT
TZOFFSETFROM:-0500
TZOFFSETTO:-0400
END:DAYLIGHT
END:VTIMEZONE
END:VCALENDAR
