BEGIN:VCALENDAR
VERSION:2.0
PRODID:-//Plone.org//NONSGML plone.app.event//EN
X-WR-TIMEZONE:US/Eastern
BEGIN:VEVENT
SUMMARY:The Road to Financial Independence
DTSTART;TZID=US/Eastern:20160514T110000
DTEND;TZID=US/Eastern:20160514T123000
DTSTAMP:20260420T223921Z
UID:f82a7d9c99764a6eac144569b4dd841b@saas_stack_varnish:6080
ATTENDEE;CN=Adults;ROLE=REQ-PARTICIPANT:Adults
CONTACT:Kelli Lovasz\, 810-688-2282\, northbranchlibrary@northbranchlibrar
 y.net
CREATED:20160404T183720Z
DESCRIPTION:Join the presenters from Edward Jones to learn about common in
 vesting mistakes\, investment strategies and what you can do to prepare fo
 r the future.  Please call the library 810-688-2282 to register.
LAST-MODIFIED:20160404T183727Z
LOCATION:NBTL Meeting Room
URL:https://northbranch.ploud.net/news-events/lib-cal/the-road-to-financia
 l-independence
END:VEVENT
BEGIN:VTIMEZONE
TZID:US/Eastern
X-LIC-LOCATION:US/Eastern
BEGIN:DAYLIGHT
DTSTART:20160313T030000
TZNAME:EDT
TZOFFSETFROM:-0500
TZOFFSETTO:-0400
END:DAYLIGHT
END:VTIMEZONE
END:VCALENDAR
