BEGIN:VCALENDAR
VERSION:2.0
PRODID:-//Plone.org//NONSGML plone.app.event//EN
X-WR-TIMEZONE:US/Eastern
BEGIN:VEVENT
SUMMARY:The Storytellers
DTSTART;TZID=US/Eastern:20160628T103000
DTEND;TZID=US/Eastern:20160628T113000
DTSTAMP:20260420T201921Z
UID:982fdb375164483db9be58d8c171af9e@saas_stack_varnish:6080
ATTENDEE;CN="Ages 3-10";ROLE=REQ-PARTICIPANT:Ages 3-10
CONTACT:Kelli Lovasz\, 810-688-2282\, northbranchlibrary@northbranchlibrar
 y.net
CREATED:20160524T151901Z
DESCRIPTION:Rhythm \, Rhyme and Reading Time with the Storytellers.  Hands
 -on fun with music\, poetry and live musical accompaniment.  Featuring ins
 truments and stories from around the world. 
LAST-MODIFIED:20160524T151905Z
LOCATION:NBTL Meeting Room
URL:https://northbranch.ploud.net/news-events/lib-cal/the-storytellers
END:VEVENT
BEGIN:VTIMEZONE
TZID:US/Eastern
X-LIC-LOCATION:US/Eastern
BEGIN:DAYLIGHT
DTSTART:20160313T030000
TZNAME:EDT
TZOFFSETFROM:-0500
TZOFFSETTO:-0400
END:DAYLIGHT
END:VTIMEZONE
END:VCALENDAR
