BEGIN:VCALENDAR
VERSION:2.0
PRODID:-//Plone.org//NONSGML plone.app.event//EN
X-WR-TIMEZONE:US/Eastern
BEGIN:VEVENT
SUMMARY:Tomato Canning
DTSTART;TZID=US/Eastern:20230729T110000
DTEND;TZID=US/Eastern:20230729T120000
DTSTAMP:20260419T214545Z
UID:2e4c218974ab430289dc97507a389532@saas_stack_varnish:6080
CREATED:20230616T202543Z
DESCRIPTION:What do you do with all the tomatoes in your garden?  Join us 
 to find out how to can and preserve them.
LAST-MODIFIED:20230616T202548Z
URL:https://northbranch.ploud.net/news-events/lib-cal/tomato-canning
END:VEVENT
BEGIN:VTIMEZONE
TZID:US/Eastern
X-LIC-LOCATION:US/Eastern
BEGIN:DAYLIGHT
DTSTART:20230312T030000
TZNAME:EDT
TZOFFSETFROM:-0500
TZOFFSETTO:-0400
END:DAYLIGHT
END:VTIMEZONE
END:VCALENDAR
