BEGIN:VCALENDAR
VERSION:2.0
PRODID:-//Plone.org//NONSGML plone.app.event//EN
X-WR-TIMEZONE:US/Eastern
BEGIN:VEVENT
SUMMARY:Tool Shelf Class
DTSTART;TZID=US/Eastern:20220616T140000
DTEND;TZID=US/Eastern:20220616T173000
DTSTAMP:20260420T071349Z
UID:6c305fe20dfb4dd9b32a2c8059761abc@saas_stack_varnish:6080
ATTENDEE;CN="This is an adult program.  Power tools will be used.";ROLE=RE
 Q-PARTICIPANT:This is an adult program.  Power tools will be used.
CONTACT:Christi Braxton\, 810-688-2282\, northbranchlibary@northbranchlibr
 ary.net
CREATED:20220525T184912Z
DESCRIPTION:In our series of DIY classes.  Make a shelf to hold tools.  Gr
 eat gift for Father's Day.
LAST-MODIFIED:20220525T184917Z
LOCATION:NBTL Meeting Room
URL:https://northbranch.ploud.net/news-events/lib-cal/tool-shelf-class
END:VEVENT
BEGIN:VTIMEZONE
TZID:US/Eastern
X-LIC-LOCATION:US/Eastern
BEGIN:DAYLIGHT
DTSTART:20220313T030000
TZNAME:EDT
TZOFFSETFROM:-0500
TZOFFSETTO:-0400
END:DAYLIGHT
END:VTIMEZONE
END:VCALENDAR
