BEGIN:VCALENDAR
VERSION:2.0
PRODID:-//Plone.org//NONSGML plone.app.event//EN
X-WR-TIMEZONE:US/Eastern
BEGIN:VEVENT
SUMMARY:Treasure Hunting for Beginners
DTSTART;TZID=US/Eastern:20180809T160000
DTEND;TZID=US/Eastern:20180809T180000
DTSTAMP:20260420T155642Z
UID:c2a7d25115074790b9315a3465979c3f@saas_stack_varnish:6080
CONTACT:Christi Mortell
CREATED:20180605T193039Z
DESCRIPTION:Find out about the simple tools of the local treasure hunters 
 trade.  You'll be surprised to learn about how you too can find 	treasure 
 in your area.
LAST-MODIFIED:20180605T193043Z
LOCATION:NBTL Meeting Room
URL:https://northbranch.ploud.net/news-events/lib-cal/treasure-hunting-for
 -beginners
END:VEVENT
BEGIN:VTIMEZONE
TZID:US/Eastern
X-LIC-LOCATION:US/Eastern
BEGIN:DAYLIGHT
DTSTART:20180311T030000
TZNAME:EDT
TZOFFSETFROM:-0500
TZOFFSETTO:-0400
END:DAYLIGHT
END:VTIMEZONE
END:VCALENDAR
