BEGIN:VCALENDAR
VERSION:2.0
PRODID:-//Plone.org//NONSGML plone.app.event//EN
X-WR-TIMEZONE:US/Eastern
BEGIN:VEVENT
SUMMARY:Trick or Treat
DTSTART;TZID=US/Eastern:20211030T100000
DTEND;TZID=US/Eastern:20211030T140000
DTSTAMP:20260420T054957Z
UID:c48e0e30375d4fd7889af0e4fd712ed5@saas_stack_varnish:6080
CREATED:20211028T181247Z
DESCRIPTION:Stop into the library and pick up a trick and treat
LAST-MODIFIED:20211028T181252Z
URL:https://northbranch.ploud.net/news-events/lib-cal/trick-or-treat
END:VEVENT
BEGIN:VTIMEZONE
TZID:US/Eastern
X-LIC-LOCATION:US/Eastern
BEGIN:DAYLIGHT
DTSTART:20210314T030000
TZNAME:EDT
TZOFFSETFROM:-0500
TZOFFSETTO:-0400
END:DAYLIGHT
END:VTIMEZONE
END:VCALENDAR
