BEGIN:VCALENDAR
VERSION:2.0
PRODID:-//Plone.org//NONSGML plone.app.event//EN
X-WR-TIMEZONE:US/Eastern
BEGIN:VEVENT
SUMMARY:Try-it Tuesday
DTSTART;TZID=US/Eastern:20230328T100000
DTEND;TZID=US/Eastern:20230328T170000
DTSTAMP:20260419T232207Z
UID:6de1e51c0e3044868c5516f2af4169d2@saas_stack_varnish:6080
CREATED:20230323T183028Z
DESCRIPTION:Join us for an M&M tasting
LAST-MODIFIED:20230323T183035Z
URL:https://northbranch.ploud.net/news-events/lib-cal/try-it-tuesday
END:VEVENT
BEGIN:VTIMEZONE
TZID:US/Eastern
X-LIC-LOCATION:US/Eastern
BEGIN:DAYLIGHT
DTSTART:20230312T030000
TZNAME:EDT
TZOFFSETFROM:-0500
TZOFFSETTO:-0400
END:DAYLIGHT
END:VTIMEZONE
END:VCALENDAR
