BEGIN:VCALENDAR
VERSION:2.0
PRODID:-//Plone.org//NONSGML plone.app.event//EN
X-WR-TIMEZONE:US/Eastern
BEGIN:VEVENT
SUMMARY:Ukrainian Egg Decorating
DTSTART;TZID=US/Eastern:20120405T100000
DTEND;TZID=US/Eastern:20120405T113000
DTSTAMP:20260420T031022Z
UID:4a42c33145b00b70bcdc43ce724f6437@saas_stack_varnish:6080
CONTACT:Kelli Lovasz\, 810-688-2282\, northbranchlibrary@northbranchlibrar
 y.net
CREATED:20120227T201755Z
DESCRIPTION:A demonstration/tutorial in the art of Ukrainian Egg decoratio
 n.
LAST-MODIFIED:20150715T190418Z
LOCATION:NBTL MEETING ROOM
URL:https://northbranch.ploud.net/news-events/lib-cal/ukrainian-egg-decora
 ting.ics
END:VEVENT
BEGIN:VTIMEZONE
TZID:US/Eastern
X-LIC-LOCATION:US/Eastern
BEGIN:DAYLIGHT
DTSTART:20120311T030000
TZNAME:EDT
TZOFFSETFROM:-0500
TZOFFSETTO:-0400
END:DAYLIGHT
END:VTIMEZONE
END:VCALENDAR
