BEGIN:VCALENDAR
VERSION:2.0
PRODID:-//Plone.org//NONSGML plone.app.event//EN
X-WR-TIMEZONE:US/Eastern
BEGIN:VEVENT
SUMMARY:Ukrainian Egg Decorating
DTSTART;TZID=US/Eastern:20160305T110000
DTEND;TZID=US/Eastern:20160305T130000
DTSTAMP:20260420T204252Z
UID:6fa7893653874d8e8bc7135aec19e654@saas_stack_varnish:6080
ATTENDEE;CN="Teens and Adults";ROLE=REQ-PARTICIPANT:Teens and Adults
CONTACT:Kelli Lovasz\, 810-688-2282\, northbranchlibrary@northbranchlibrar
 y.net
CREATED:20160119T200316Z
DESCRIPTION:Hands on class for teens and adults in the fantastic world of 
 Ukrainian Eggs. Make a beautifully decorated egg to take home.
LAST-MODIFIED:20160119T200319Z
LOCATION:NBTL Meeting Room
URL:https://northbranch.ploud.net/news-events/lib-cal/ukrainian-egg-decora
 ting
END:VEVENT
BEGIN:VTIMEZONE
TZID:US/Eastern
X-LIC-LOCATION:US/Eastern
BEGIN:STANDARD
DTSTART:20151101T010000
TZNAME:EST
TZOFFSETFROM:-0400
TZOFFSETTO:-0500
END:STANDARD
END:VTIMEZONE
END:VCALENDAR
