BEGIN:VCALENDAR
VERSION:2.0
PRODID:-//Plone.org//NONSGML plone.app.event//EN
X-WR-TIMEZONE:US/Eastern
BEGIN:VEVENT
SUMMARY:Upcycled Bird Feeders
DTSTART;TZID=US/Eastern:20220324T140000
DTEND;TZID=US/Eastern:20220324T170000
DTSTAMP:20260420T041803Z
UID:795a6b80b56d4bc487828588bd9e4ba5@saas_stack_varnish:6080
ATTENDEE;CN="tweens and above";ROLE=REQ-PARTICIPANT:tweens and above
CONTACT:Kelli Lovasz\, 810-688-2282\, northbranchlibary@northbranchlibrary
 .net
CREATED:20220303T184158Z
DESCRIPTION:Prepare for spring by making upcycled bird feeders for your fe
 athered friends.  This program should take approx. 1 hour.  Please call th
 e library\, 810-688-2282\, to register.
LAST-MODIFIED:20220303T184204Z
LOCATION:NBTL Meeting Room
URL:https://northbranch.ploud.net/news-events/lib-cal/upcycled-bird-feeder
 s-1
END:VEVENT
BEGIN:VTIMEZONE
TZID:US/Eastern
X-LIC-LOCATION:US/Eastern
BEGIN:DAYLIGHT
DTSTART:20220313T030000
TZNAME:EDT
TZOFFSETFROM:-0500
TZOFFSETTO:-0400
END:DAYLIGHT
END:VTIMEZONE
END:VCALENDAR
