BEGIN:VCALENDAR
VERSION:2.0
PRODID:-//Plone.org//NONSGML plone.app.event//EN
X-WR-TIMEZONE:US/Eastern
BEGIN:VEVENT
SUMMARY:Upcycled Bird Feeders
DTSTART;TZID=US/Eastern:20151121T110000
DTEND;TZID=US/Eastern:20151121T120000
DTSTAMP:20260420T162619Z
UID:7df69a69ec1d4f318a70738eaa29ecdc@saas_stack_varnish:6080
ATTENDEE;CN="Grades 4th - 7th.";ROLE=REQ-PARTICIPANT:Grades 4th - 7th.
CONTACT:Rhoda Lucia\, 810-688-2282\, northbranchlibrary@northbranchlibrary
 .net
CREATED:20151029T152334Z
DESCRIPTION:Come and create your very own bird feeder for your backyard!  
 We supply all items needed to complete this craft and get you started with
  some bird feed.  Grades 4th-7th.
LAST-MODIFIED:20151029T152339Z
LOCATION:NBTL Meeting Room
URL:https://northbranch.ploud.net/news-events/lib-cal/upcycled-bird-feeder
 s
END:VEVENT
BEGIN:VTIMEZONE
TZID:US/Eastern
X-LIC-LOCATION:US/Eastern
BEGIN:STANDARD
DTSTART:20151101T010000
TZNAME:EST
TZOFFSETFROM:-0400
TZOFFSETTO:-0500
END:STANDARD
END:VTIMEZONE
END:VCALENDAR
