BEGIN:VCALENDAR
VERSION:2.0
PRODID:-//Plone.org//NONSGML plone.app.event//EN
X-WR-TIMEZONE:US/Eastern
BEGIN:VEVENT
SUMMARY:Valentine Crafternoon
DTSTART;TZID=US/Eastern:20220210T140000
DTEND;TZID=US/Eastern:20220210T170000
DTSTAMP:20260420T041721Z
UID:fef4043130584555984d5872eb450c9d@saas_stack_varnish:6080
ATTENDEE;CN=Tweens/Teens/Adults;ROLE=REQ-PARTICIPANT:Tweens/Teens/Adults
CONTACT:Christi Braxton\, 810-688-2282\, northbranchlibary@northbranchlibr
 ary.net
CREATED:20220121T165552Z
DESCRIPTION:Decorative Wall Art with a Valentine Day theme.  Great craft f
 or tweens/teens/adults.
LAST-MODIFIED:20220121T165557Z
LOCATION:NBTL Meeting Room
URL:https://northbranch.ploud.net/news-events/lib-cal/valentine-crafternoo
 n
END:VEVENT
BEGIN:VTIMEZONE
TZID:US/Eastern
X-LIC-LOCATION:US/Eastern
BEGIN:STANDARD
DTSTART:20211107T010000
TZNAME:EST
TZOFFSETFROM:-0400
TZOFFSETTO:-0500
END:STANDARD
END:VTIMEZONE
END:VCALENDAR
