BEGIN:VCALENDAR
VERSION:2.0
PRODID:-//Plone.org//NONSGML plone.app.event//EN
X-WR-TIMEZONE:US/Eastern
BEGIN:VEVENT
SUMMARY:Valentine Sweet Treats
DTSTART;TZID=US/Eastern:20200214T100000
DTEND;TZID=US/Eastern:20200214T170000
DTSTAMP:20260420T141327Z
UID:3965ef289fea4173a823804996aeb63f@saas_stack_varnish:6080
CONTACT:Kelli Lovasz\, 8106882282\, northbranchlibrary@northbranchlibrary.
 net
CREATED:20200210T175120Z
DESCRIPTION:Do you like Oreos?  What flavor is your favorite?  We will be 
 having an Oreo Cookie tasting on Valentine's day.  Come in and vote for yo
 ur favorite flavor.  10:00 am - 5:00 pm or until our cookies run out.
LAST-MODIFIED:20200210T175124Z
LOCATION:NBTL
URL:https://northbranch.ploud.net/news-events/lib-cal/valentine-sweet-trea
 ts
END:VEVENT
BEGIN:VTIMEZONE
TZID:US/Eastern
X-LIC-LOCATION:US/Eastern
BEGIN:STANDARD
DTSTART:20191103T010000
TZNAME:EST
TZOFFSETFROM:-0400
TZOFFSETTO:-0500
END:STANDARD
END:VTIMEZONE
END:VCALENDAR
