BEGIN:VCALENDAR
VERSION:2.0
PRODID:-//Plone.org//NONSGML plone.app.event//EN
X-WR-TIMEZONE:US/Eastern
BEGIN:VEVENT
SUMMARY:Valentine's Wreath Craft
DTSTART;TZID=US/Eastern:20250201T103000
DTEND;TZID=US/Eastern:20250201T143000
DTSTAMP:20260419T201746Z
UID:c4a48a2f093a4d0a9afbf5f3a9f878cb@saas_stack_varnish:6080
ATTENDEE;CN="Ages 13 and up";ROLE=REQ-PARTICIPANT:Ages 13 and up
ATTENDEE;CN="$10 registration fee due by Jan. 25th";ROLE=REQ-PARTICIPANT:$
 10 registration fee due by Jan. 25th
CONTACT:810-688-2282\, northbranchlibrary@northbranchlibrary.net
CREATED:20250114T173859Z
DESCRIPTION:Join us for a Valentine's craft! Make a wreath out of deco mes
 h.
LAST-MODIFIED:20250121T181150Z
LOCATION:North Branch Township Library
URL:https://northbranch.ploud.net/news-events/lib-cal/valentines-wreath-cr
 aft
END:VEVENT
BEGIN:VTIMEZONE
TZID:US/Eastern
X-LIC-LOCATION:US/Eastern
BEGIN:STANDARD
DTSTART:20241103T010000
TZNAME:EST
TZOFFSETFROM:-0400
TZOFFSETTO:-0500
END:STANDARD
END:VTIMEZONE
END:VCALENDAR
