BEGIN:VCALENDAR
VERSION:2.0
PRODID:-//Plone.org//NONSGML plone.app.event//EN
X-WR-TIMEZONE:US/Eastern
BEGIN:VEVENT
SUMMARY:VIP Reader - Farm Bureau
DTSTART;TZID=US/Eastern:20170620T110000
DTEND;TZID=US/Eastern:20170620T120000
DTSTAMP:20260420T204159Z
UID:2a348486e59445b4a327d045489f8651@saas_stack_varnish:6080
CREATED:20170515T191456Z
DESCRIPTION:Farm Bureau will be presenting a story and craft.
LAST-MODIFIED:20170515T191500Z
URL:https://northbranch.ploud.net/news-events/lib-cal/vip-reader-farm-bure
 au
END:VEVENT
BEGIN:VTIMEZONE
TZID:US/Eastern
X-LIC-LOCATION:US/Eastern
BEGIN:DAYLIGHT
DTSTART:20170312T030000
TZNAME:EDT
TZOFFSETFROM:-0500
TZOFFSETTO:-0400
END:DAYLIGHT
END:VTIMEZONE
END:VCALENDAR
