BEGIN:VCALENDAR
VERSION:2.0
PRODID:-//Plone.org//NONSGML plone.app.event//EN
X-WR-TIMEZONE:US/Eastern
BEGIN:VEVENT
SUMMARY:VIP Reader - Mrs. Bodnar
DTSTART;TZID=US/Eastern:20160712T110000
DTEND;TZID=US/Eastern:20160712T120000
DTSTAMP:20260420T220916Z
UID:7fbb34abfe9243d6b3d11851a420f744@saas_stack_varnish:6080
CONTACT:Kelli Lovasz\, 810-688-2282\, northbranchlibrary@northbranchlibrar
 y.net
CREATED:20160621T173320Z
DESCRIPTION:Mrs. Bodnar will be at the library to share a story and progra
 m for Summer Reading.
LAST-MODIFIED:20160621T173324Z
LOCATION:North Branch Township Library
URL:https://northbranch.ploud.net/news-events/lib-cal/vip-reader-mrs-bodna
 r
END:VEVENT
BEGIN:VTIMEZONE
TZID:US/Eastern
X-LIC-LOCATION:US/Eastern
BEGIN:DAYLIGHT
DTSTART:20160313T030000
TZNAME:EDT
TZOFFSETFROM:-0500
TZOFFSETTO:-0400
END:DAYLIGHT
END:VTIMEZONE
END:VCALENDAR
