BEGIN:VCALENDAR
VERSION:2.0
PRODID:-//Plone.org//NONSGML plone.app.event//EN
X-WR-TIMEZONE:US/Eastern
BEGIN:VEVENT
SUMMARY:VIP Reader - Mrs. Butterfield
DTSTART;TZID=US/Eastern:20170626T103000
DTEND;TZID=US/Eastern:20170626T113000
DTSTAMP:20260420T204841Z
UID:1354019d0878435bad007a380cdf3961@saas_stack_varnish:6080
ATTENDEE;CN="Children's Program";ROLE=REQ-PARTICIPANT:Children's Program
CONTACT:Kelli Lovasz/Christi Mortell\, 810-688-2282\, northbranchlibrary@n
 orthbranchlibrary.net
CREATED:20170515T191930Z
DESCRIPTION:Mrs.  Butterfield\, an NB Schools cook\, will have a fun story
  and craft to share for our Summer Reading Program
LAST-MODIFIED:20170515T191934Z
LOCATION:NBTL
URL:https://northbranch.ploud.net/news-events/lib-cal/vip-reader-mrs-butte
 rfield
END:VEVENT
BEGIN:VTIMEZONE
TZID:US/Eastern
X-LIC-LOCATION:US/Eastern
BEGIN:DAYLIGHT
DTSTART:20170312T030000
TZNAME:EDT
TZOFFSETFROM:-0500
TZOFFSETTO:-0400
END:DAYLIGHT
END:VTIMEZONE
END:VCALENDAR
