BEGIN:VCALENDAR
VERSION:2.0
PRODID:-//Plone.org//NONSGML plone.app.event//EN
X-WR-TIMEZONE:US/Eastern
BEGIN:VEVENT
SUMMARY:VIP Reader - Mrs. Conley
DTSTART;TZID=US/Eastern:20160630T110000
DTEND;TZID=US/Eastern:20160630T120000
DTSTAMP:20260420T201741Z
UID:35582cc65ce34ba2ad395ca5d6bd0c01@saas_stack_varnish:6080
CONTACT:Kelli Lovasz\, 810-688-2282\, northbranchlibrary@northbranchlibrar
 y.net
CREATED:20160621T173116Z
DESCRIPTION:Mrs. Conley will be bringing in her famous chickens!  There wi
 ll be a story and craft with her program.
LAST-MODIFIED:20160621T173122Z
LOCATION:NBTL
URL:https://northbranch.ploud.net/news-events/lib-cal/vip-reader-mrs-conle
 y
END:VEVENT
BEGIN:VTIMEZONE
TZID:US/Eastern
X-LIC-LOCATION:US/Eastern
BEGIN:DAYLIGHT
DTSTART:20160313T030000
TZNAME:EDT
TZOFFSETFROM:-0500
TZOFFSETTO:-0400
END:DAYLIGHT
END:VTIMEZONE
END:VCALENDAR
