BEGIN:VCALENDAR
VERSION:2.0
PRODID:-//Plone.org//NONSGML plone.app.event//EN
X-WR-TIMEZONE:US/Eastern
BEGIN:VEVENT
SUMMARY:VIP Reader - Mrs. Forys
DTSTART;TZID=US/Eastern:20160726T110000
DTEND;TZID=US/Eastern:20160726T120000
DTSTAMP:20260420T221038Z
UID:fe23cfe5a73a4bd8872a1512ed1ee209@saas_stack_varnish:6080
CONTACT:Kelli Lovasz\, 810-688-2282\, northbranchlibrary@northbranchlibrar
 y.net
CREATED:20160621T175318Z
DESCRIPTION:Mrs. Forys will be presenting a VIP program based on "Where th
 e Wild Things Are" by Maurice Sendak.  There will be a story\, craft and m
 usical instruments.  This will be a fun filled interactive program.
LAST-MODIFIED:20160621T175322Z
LOCATION:NBTL
URL:https://northbranch.ploud.net/news-events/lib-cal/vip-reader-mrs-forys
END:VEVENT
BEGIN:VTIMEZONE
TZID:US/Eastern
X-LIC-LOCATION:US/Eastern
BEGIN:DAYLIGHT
DTSTART:20160313T030000
TZNAME:EDT
TZOFFSETFROM:-0500
TZOFFSETTO:-0400
END:DAYLIGHT
END:VTIMEZONE
END:VCALENDAR
