BEGIN:VCALENDAR
VERSION:2.0
PRODID:-//Plone.org//NONSGML plone.app.event//EN
X-WR-TIMEZONE:US/Eastern
BEGIN:VEVENT
SUMMARY:Volunteer Meeting
DTSTART;TZID=US/Eastern:20151105T173000
DTEND;TZID=US/Eastern:20151105T183000
DTSTAMP:20260420T162548Z
UID:f0e632bad33347df80be3641e2721ed6@saas_stack_varnish:6080
ATTENDEE;CN="All ages welcome";ROLE=REQ-PARTICIPANT:All ages welcome
CONTACT:Annette Adams\, 810-688-2282\, northbranchlibrary@northbranchlibra
 ry.net
CREATED:20151029T153130Z
DESCRIPTION:Would you like to help support the NBTL?  Do you have an hour 
 you could give to help make your library better?  Then come to this quick\
 , informational meeting to find out how you could help.
LAST-MODIFIED:20151029T153134Z
LOCATION:NBTL
URL:https://northbranch.ploud.net/news-events/lib-cal/volunteer-meeting
END:VEVENT
BEGIN:VTIMEZONE
TZID:US/Eastern
X-LIC-LOCATION:US/Eastern
BEGIN:STANDARD
DTSTART:20151101T010000
TZNAME:EST
TZOFFSETFROM:-0400
TZOFFSETTO:-0500
END:STANDARD
END:VTIMEZONE
END:VCALENDAR
