BEGIN:VCALENDAR
VERSION:2.0
PRODID:-//Plone.org//NONSGML plone.app.event//EN
X-WR-TIMEZONE:US/Eastern
BEGIN:VEVENT
SUMMARY:Whale of a Tale Summer Reading Kit
DTSTART;VALUE=DATE:20210706
DTEND;VALUE=DATE:20210707
DTSTAMP:20260420T101526Z
UID:89b06bc15e8f4e29a0bb192d375dd625@saas_stack_varnish:6080
CREATED:20210616T163214Z
DESCRIPTION:Week of 7/6-7/10.  Pick up your whale themed summer reading ki
 t
LAST-MODIFIED:20210616T163219Z
URL:https://northbranch.ploud.net/news-events/lib-cal/whale-of-a-tale-summ
 er-reading-kit
END:VEVENT
END:VCALENDAR
