BEGIN:VCALENDAR
VERSION:2.0
PRODID:-//Plone.org//NONSGML plone.app.event//EN
X-WR-TIMEZONE:US/Eastern
BEGIN:VEVENT
SUMMARY:Wine Bottle Bird Feeders
DTSTART;TZID=US/Eastern:20160806T103000
DTEND;TZID=US/Eastern:20160806T130000
DTSTAMP:20260420T221242Z
UID:499079b2193f46b5b54fbfb3b3be50f3@saas_stack_varnish:6080
ATTENDEE;CN="This class is designed for adults.";ROLE=REQ-PARTICIPANT:This
  class is designed for adults.
CONTACT:Rhoda Lucia\, 810-688-2282\, northbranchlibrary@northbranchlibrary
 .net
CREATED:20160415T181702Z
DESCRIPTION:Find out how to upcycle glass bottles of all kinds into beauti
 ful bird feeders.  This is a hands on class for adults.  Please call the l
 ibrary to register.  We will provide all tools and materials.  However if 
 you have your own beautiful bottles you would like to use please let us kn
 ow and bring them with you.
LAST-MODIFIED:20160415T181706Z
URL:https://northbranch.ploud.net/news-events/lib-cal/wine-bottle-bird-fee
 ders
END:VEVENT
BEGIN:VTIMEZONE
TZID:US/Eastern
X-LIC-LOCATION:US/Eastern
BEGIN:DAYLIGHT
DTSTART:20160313T030000
TZNAME:EDT
TZOFFSETFROM:-0500
TZOFFSETTO:-0400
END:DAYLIGHT
END:VTIMEZONE
END:VCALENDAR
