BEGIN:VCALENDAR
VERSION:2.0
PRODID:-//Plone.org//NONSGML plone.app.event//EN
X-WR-TIMEZONE:US/Eastern
BEGIN:VEVENT
SUMMARY:Winter Break Kid's Craft
DTSTART;TZID=US/Eastern:20250102T120000
DTEND;TZID=US/Eastern:20250102T190000
DTSTAMP:20260419T201914Z
UID:0ae5314286b142ce89314960021c10d8@saas_stack_varnish:6080
ATTENDEE;CN="Children and their guardians";ROLE=REQ-PARTICIPANT:Children a
 nd their guardians
CONTACT:810-688-2282\, northbranchlibrary@northbranchlibrary.net
CREATED:20241227T164531Z
DESCRIPTION:Come to the library to make and take a fun craft to measure th
 e Michigan snowfall!
LAST-MODIFIED:20241227T165725Z
LOCATION:North Branch Township Library
URL:https://northbranch.ploud.net/news-events/lib-cal/winter-break-kids-cr
 aft-1
END:VEVENT
BEGIN:VTIMEZONE
TZID:US/Eastern
X-LIC-LOCATION:US/Eastern
BEGIN:STANDARD
DTSTART:20241103T010000
TZNAME:EST
TZOFFSETFROM:-0400
TZOFFSETTO:-0500
END:STANDARD
END:VTIMEZONE
END:VCALENDAR
