BEGIN:VCALENDAR
VERSION:2.0
PRODID:-//Plone.org//NONSGML plone.app.event//EN
X-WR-TIMEZONE:US/Eastern
BEGIN:VEVENT
SUMMARY:Winter Break Kid's Craft
DTSTART;TZID=US/Eastern:20241227T100000
DTEND;TZID=US/Eastern:20241228T140000
DTSTAMP:20260419T204105Z
UID:45ee4d58aa1d4ddf8c5c7574bcf2be65@saas_stack_varnish:6080
ATTENDEE;CN="For children and their guardians";ROLE=REQ-PARTICIPANT:For ch
 ildren and their guardians
CONTACT:810-688-2282\, northbranchlibrary@northbranchlibrary.net
CREATED:20241219T190956Z
LAST-MODIFIED:20241227T164219Z
LOCATION:North Branch Township Library
URL:https://northbranch.ploud.net/news-events/lib-cal/winter-break-kids-cr
 aft
END:VEVENT
BEGIN:VTIMEZONE
TZID:US/Eastern
X-LIC-LOCATION:US/Eastern
BEGIN:STANDARD
DTSTART:20241103T010000
TZNAME:EST
TZOFFSETFROM:-0400
TZOFFSETTO:-0500
END:STANDARD
END:VTIMEZONE
END:VCALENDAR
