BEGIN:VCALENDAR
VERSION:2.0
PRODID:-//Plone.org//NONSGML plone.app.event//EN
X-WR-TIMEZONE:US/Eastern
BEGIN:VEVENT
SUMMARY:Winter Gardening Class
DTSTART;TZID=US/Eastern:20220226T110000
DTEND;TZID=US/Eastern:20220226T130000
DTSTAMP:20260420T041632Z
UID:5b58e70dc670448a8273476d4fc36001@saas_stack_varnish:6080
ATTENDEE;CN="General Public";ROLE=REQ-PARTICIPANT:General Public
CONTACT:Kelli Lovasz\, 8106882282\, northbranchlibary@northbranchlibrary.n
 et
CREATED:20220207T183630Z
DESCRIPTION:Join us for part 1 of our Gardening Series.  Learn a simple te
 chnique to get your garden sprouting now.  Bring 2 clean empty milk jugs t
 o begin your seedlings.
LAST-MODIFIED:20220207T183636Z
LOCATION:NBTL Meeting Room
URL:https://northbranch.ploud.net/news-events/lib-cal/winter-gardening-cla
 ss
END:VEVENT
BEGIN:VTIMEZONE
TZID:US/Eastern
X-LIC-LOCATION:US/Eastern
BEGIN:STANDARD
DTSTART:20211107T010000
TZNAME:EST
TZOFFSETFROM:-0400
TZOFFSETTO:-0500
END:STANDARD
END:VTIMEZONE
END:VCALENDAR
