BEGIN:VCALENDAR
VERSION:2.0
PRODID:-//Plone.org//NONSGML plone.app.event//EN
X-WR-TIMEZONE:US/Eastern
BEGIN:VEVENT
SUMMARY:Wood Burning Class
DTSTART;TZID=US/Eastern:20200227T163000
DTEND;TZID=US/Eastern:20200227T183000
DTSTAMP:20260420T091305Z
UID:9fb7a189531c4c948529d09ca4254797@saas_stack_varnish:6080
CONTACT:Christi Mortell\, 8106882282\, northbranchlibrary@northbranchlibra
 ry.net
CREATED:20200210T175712Z
DESCRIPTION:Learn the basics of Wood Burning with LJC.  If you have your o
 wn wood burning kit please bring it.
LAST-MODIFIED:20200210T175716Z
LOCATION:NBTL Meeting Room
URL:https://northbranch.ploud.net/news-events/lib-cal/wood-burning-class-1
END:VEVENT
BEGIN:VTIMEZONE
TZID:US/Eastern
X-LIC-LOCATION:US/Eastern
BEGIN:STANDARD
DTSTART:20191103T010000
TZNAME:EST
TZOFFSETFROM:-0400
TZOFFSETTO:-0500
END:STANDARD
END:VTIMEZONE
END:VCALENDAR
