BEGIN:VCALENDAR
VERSION:2.0
PRODID:-//Plone.org//NONSGML plone.app.event//EN
X-WR-TIMEZONE:US/Eastern
BEGIN:VEVENT
SUMMARY:WOOD BURNING CLASS
DTSTART;TZID=US/Eastern:20251213T103000
DTEND;TZID=US/Eastern:20251213T113000
DTSTAMP:20260419T221301Z
UID:572c901dc740494d9425a954b40bc1bc@saas_stack_varnish:6080
ATTENDEE;CN="Age 16 years or older";ROLE=REQ-PARTICIPANT:Age 16 years or o
 lder
CONTACT:810-688-2282\, northbranchlibrary@northbranchlibrary.net
CREATED:20251104T192830Z
DESCRIPTION:Do you need a handmade gift for a loved one? Are you looking t
 o learn a new skill? Join us for a class to learn the basics of wood burni
 ng and take home a beautiful piece of art. \n\nATTENDEES WILL NEED:\nPIECE
  OF SANDED WOOD\nPICTURE OF DESIRED DESIGN SIZED TO YOUR WOOD PIECE\nIF PO
 SSIBLE\, YOUR OWN WOOD BURNER (There will be 4 new woodburners for sale by
  the instructor for $22 and a limited number of used units- first come fir
 st served!)
LAST-MODIFIED:20251104T192838Z
LOCATION:North Branch Township Library
URL:https://northbranch.ploud.net/news-events/lib-cal/wood-burning-class-2
END:VEVENT
BEGIN:VTIMEZONE
TZID:US/Eastern
X-LIC-LOCATION:US/Eastern
BEGIN:STANDARD
DTSTART:20251102T010000
TZNAME:EST
TZOFFSETFROM:-0400
TZOFFSETTO:-0500
END:STANDARD
END:VTIMEZONE
END:VCALENDAR
