BEGIN:VCALENDAR
VERSION:2.0
PRODID:-//Plone.org//NONSGML plone.app.event//EN
X-WR-TIMEZONE:US/Eastern
BEGIN:VEVENT
SUMMARY:Wood Burning Class
DTSTART;TZID=US/Eastern:20160312T103000
DTEND;TZID=US/Eastern:20160312T123000
DTSTAMP:20260420T205259Z
UID:c257a4dabcb2475e8d9dd52d4b71f819@saas_stack_varnish:6080
ATTENDEE;CN="Tweens and Adults.  Ages 10 and up";ROLE=REQ-PARTICIPANT:Twee
 ns and Adults.  Ages 10 and up
CONTACT:Christi Mortell\, 810-688-2282\, northbranchlibrary@northbranchlib
 rary.net
CREATED:20160113T201736Z
DESCRIPTION:A starter class in the art of wood burning.  Ages 10 and up.  
 Complete and take home a beginners project.  Ask at desk for details and s
 upplies.
LAST-MODIFIED:20160113T201740Z
LOCATION:NBTL Meeting Room
URL:https://northbranch.ploud.net/news-events/lib-cal/wood-burning-class
END:VEVENT
BEGIN:VTIMEZONE
TZID:US/Eastern
X-LIC-LOCATION:US/Eastern
BEGIN:STANDARD
DTSTART:20151101T010000
TZNAME:EST
TZOFFSETFROM:-0400
TZOFFSETTO:-0500
END:STANDARD
END:VTIMEZONE
END:VCALENDAR
