BEGIN:VCALENDAR
VERSION:2.0
PRODID:-//Plone.org//NONSGML plone.app.event//EN
X-WR-TIMEZONE:US/Eastern
BEGIN:VEVENT
SUMMARY:Wood Craft Class with Home Depot - CANCELLED/RESCHEDULED
DTSTART;TZID=US/Eastern:20160225T170000
DTEND;TZID=US/Eastern:20160225T180000
DTSTAMP:20260420T205008Z
UID:401a78676c7841d18f4aeb5a0e1da15b@saas_stack_varnish:6080
ATTENDEE;CN=kids;ROLE=REQ-PARTICIPANT:kids
CONTACT:Christi Mortell\, 810-688-2282\, northbranchlibrary@northbranchlib
 rary.net
CREATED:20160125T203938Z
DESCRIPTION:This program will be rescheduled.  Please stay tuned for the n
 ew date/time.  This is a program for elementary - upper middle school age 
 students.  NBTL in conjunction with Home Depot presents Wood Crafting at t
 he library.  We will be making various wood crafts based on ages and abili
 ties of participants.  All martial and instruction will be provided.  Call
  the library 810-688-2282 for sign up.
LAST-MODIFIED:20160224T145532Z
LOCATION:NBTL Meeting Room
URL:https://northbranch.ploud.net/news-events/lib-cal/wood-craft-class-wit
 h-home-depot
END:VEVENT
BEGIN:VTIMEZONE
TZID:US/Eastern
X-LIC-LOCATION:US/Eastern
BEGIN:STANDARD
DTSTART:20151101T010000
TZNAME:EST
TZOFFSETFROM:-0400
TZOFFSETTO:-0500
END:STANDARD
END:VTIMEZONE
END:VCALENDAR
