BEGIN:VCALENDAR
VERSION:2.0
PRODID:-//Plone.org//NONSGML plone.app.event//EN
X-WR-TIMEZONE:US/Eastern
BEGIN:VEVENT
SUMMARY:Writers Group
DTSTART;TZID=US/Eastern:20221028T100000
DTEND;TZID=US/Eastern:20221028T120000
DTSTAMP:20260420T005751Z
UID:89bda1b0e0ca47a1a6b1ca43315c4f14@saas_stack_varnish:6080
ATTENDEE;CN="Anyone interested in writing.";ROLE=REQ-PARTICIPANT:Anyone in
 terested in writing.
CONTACT:Christi Braxton\, 810-688-2282\, northbranchlibary@northbranchlibr
 ary.net
CREATED:20220930T162401Z
DESCRIPTION:Are you interested in writing?  Do you have an inner author yo
 u want to let out?  This is the group for you.  It is a no pressure space 
 where you can flex your mind and writing muscles.
LAST-MODIFIED:20220930T162406Z
LOCATION:NBTL Meeting Room
URL:https://northbranch.ploud.net/news-events/lib-cal/writers-group
END:VEVENT
BEGIN:VTIMEZONE
TZID:US/Eastern
X-LIC-LOCATION:US/Eastern
BEGIN:DAYLIGHT
DTSTART:20220313T030000
TZNAME:EDT
TZOFFSETFROM:-0500
TZOFFSETTO:-0400
END:DAYLIGHT
END:VTIMEZONE
END:VCALENDAR
