BEGIN:VCALENDAR
VERSION:2.0
PRODID:-//Plone.org//NONSGML plone.app.event//EN
X-WR-TIMEZONE:US/Eastern
BEGIN:VEVENT
SUMMARY:COLORING  CLUB
DTSTART;TZID=US/Eastern:20181022T103000
DTEND;TZID=US/Eastern:20181022T113000
DTSTAMP:20260420T153557Z
UID:dc8cd246a04a4e80a082de65c3bd3dca@saas_stack_varnish:6080
ATTENDEE;CN=Adults;ROLE=REQ-PARTICIPANT:Adults
CONTACT:Kelli Lovasz\, 8106882282\, northbranchlibrary@northbranchlibrary.
 net
CREATED:20180928T154508Z
DESCRIPTION:Enjoy a relaxing morning coloring and chatting with friends.  
 Coloring pages\, colored pencils and crayons provided.
LAST-MODIFIED:20180928T154934Z
LOCATION:NBTL Meeting Room
URL:https://northbranch.ploud.net/news-events/lib-cal/writing-club-1/2018-
 10-22
END:VEVENT
BEGIN:VTIMEZONE
TZID:US/Eastern
X-LIC-LOCATION:US/Eastern
BEGIN:DAYLIGHT
DTSTART:20180311T030000
TZNAME:EDT
TZOFFSETFROM:-0500
TZOFFSETTO:-0400
END:DAYLIGHT
END:VTIMEZONE
END:VCALENDAR
