BEGIN:VCALENDAR
VERSION:2.0
PRODID:-//Plone.org//NONSGML plone.app.event//EN
X-WR-TIMEZONE:US/Eastern
BEGIN:VEVENT
SUMMARY:COLORING  CLUB
DTSTART;TZID=US/Eastern:20181126T103000
DTEND;TZID=US/Eastern:20181126T113000
DTSTAMP:20260420T190749Z
UID:dc8cd246a04a4e80a082de65c3bd3dca@saas_stack_varnish:6080
ATTENDEE;CN=Adults;ROLE=REQ-PARTICIPANT:Adults
CONTACT:Kelli Lovasz\, 8106882282\, northbranchlibrary@northbranchlibrary.
 net
CREATED:20180928T154508Z
DESCRIPTION:Enjoy a relaxing morning coloring and chatting with friends.  
 Coloring pages\, colored pencils and crayons provided.
LAST-MODIFIED:20180928T154934Z
LOCATION:NBTL Meeting Room
URL:https://northbranch.ploud.net/news-events/lib-cal/writing-club-1/2018-
 11-26
END:VEVENT
BEGIN:VTIMEZONE
TZID:US/Eastern
X-LIC-LOCATION:US/Eastern
BEGIN:STANDARD
DTSTART:20181104T010000
TZNAME:EST
TZOFFSETFROM:-0400
TZOFFSETTO:-0500
END:STANDARD
END:VTIMEZONE
END:VCALENDAR
