BEGIN:VCALENDAR
VERSION:2.0
PRODID:-//Plone.org//NONSGML plone.app.event//EN
X-WR-TIMEZONE:US/Eastern
BEGIN:VEVENT
SUMMARY:WRITING CLUB
DTSTART;TZID=US/Eastern:20190311T110000
DTEND;TZID=US/Eastern:20190311T130000
DTSTAMP:20260420T141156Z
UID:6a2fdb529bbb4b52aa8df837d263767e@saas_stack_varnish:6080
CONTACT:Christi Mortell\, 8106882282\, northbranchlibrary@northbranchlibra
 ry.net
CREATED:20180928T154822Z
DESCRIPTION:Have you always enjoyed writing?  Do you like to explore all t
 ypes of writing? This group is for you.  \nOctober 8th: We will be working
  on Vision boards.
LAST-MODIFIED:20180928T155034Z
LOCATION:NBTL Meeting Room
URL:https://northbranch.ploud.net/news-events/lib-cal/writing-club-2/2019-
 03-11
END:VEVENT
BEGIN:VTIMEZONE
TZID:US/Eastern
X-LIC-LOCATION:US/Eastern
BEGIN:DAYLIGHT
DTSTART:20190310T030000
TZNAME:EDT
TZOFFSETFROM:-0500
TZOFFSETTO:-0400
END:DAYLIGHT
END:VTIMEZONE
END:VCALENDAR
