BEGIN:VCALENDAR
VERSION:2.0
PRODID:-//Plone.org//NONSGML plone.app.event//EN
X-WR-TIMEZONE:US/Eastern
BEGIN:VEVENT
SUMMARY:Writing Club
DTSTART;TZID=US/Eastern:20190408T110000
DTEND;TZID=US/Eastern:20190408T120000
DTSTAMP:20260420T123638Z
UID:e7ba615a973d4dcabe2b2df5b37f86fe@saas_stack_varnish:6080
CONTACT:Christi Mortell\, 8106882282\, northbranchlibrary@northbranchlibra
 ry.net
CREATED:20190205T162608Z
DESCRIPTION:Do you have an author in you wanting to get out?  Ever thought
  about writing your life story? Would you like to start a blog?  Do you ju
 st love to write and want to explore more of your creativity?  This group 
 is for you.
LAST-MODIFIED:20190205T162612Z
LOCATION:NBTL Meeting Room
URL:https://northbranch.ploud.net/news-events/lib-cal/writing-club-3/2019-
 04-08
END:VEVENT
BEGIN:VTIMEZONE
TZID:US/Eastern
X-LIC-LOCATION:US/Eastern
BEGIN:DAYLIGHT
DTSTART:20190310T030000
TZNAME:EDT
TZOFFSETFROM:-0500
TZOFFSETTO:-0400
END:DAYLIGHT
END:VTIMEZONE
END:VCALENDAR
