BEGIN:VCALENDAR
VERSION:2.0
PRODID:-//Plone.org//NONSGML plone.app.event//EN
X-WR-TIMEZONE:US/Eastern
BEGIN:VEVENT
SUMMARY:Writing Club
DTSTART;TZID=US/Eastern:20180411T110000
DTEND;TZID=US/Eastern:20180411T120000
DTSTAMP:20260420T204151Z
UID:00018a6d1df245cab9558baffc609957@saas_stack_varnish:6080
ATTENDEE;CN="This is open to all ages, all writing types and styles.";ROLE
 =REQ-PARTICIPANT:This is open to all ages, all writing types and styles.
CONTACT:Christi Mortell\, 810-688-2282\, northbranchlibrary@northbranchlib
 rary.net
CREATED:20180323T140104Z
DESCRIPTION:Do you have a writer's soul?  Have you been looking for a crea
 tive outlet?  Join like minded individuals as we explore different types o
 f writing\, encourage each other and practice our writing.\nPlease call Ch
 risti or Kelli at the library for more information 810-688-2282
LAST-MODIFIED:20180323T140109Z
LOCATION:NBTL Meeting Room
URL:https://northbranch.ploud.net/news-events/lib-cal/writing-club
END:VEVENT
BEGIN:VTIMEZONE
TZID:US/Eastern
X-LIC-LOCATION:US/Eastern
BEGIN:DAYLIGHT
DTSTART:20180311T030000
TZNAME:EDT
TZOFFSETFROM:-0500
TZOFFSETTO:-0400
END:DAYLIGHT
END:VTIMEZONE
END:VCALENDAR
