BEGIN:VCALENDAR
VERSION:2.0
PRODID:-//Plone.org//NONSGML plone.app.event//EN
X-WR-TIMEZONE:US/Eastern
BEGIN:VEVENT
SUMMARY:Writing Group
DTSTART;TZID=US/Eastern:20211112T110000
DTEND;TZID=US/Eastern:20211112T120000
DTSTAMP:20260420T054628Z
UID:ef4b311c939a4b379a42ecfc5563af81@saas_stack_varnish:6080
ATTENDEE;CN="Anyone who enjoys writing in any form";ROLE=REQ-PARTICIPANT:A
 nyone who enjoys writing in any form
CONTACT:Christi Braxton\, 810-688-2282\, northbranchlibary@northbranchlibr
 ary.net
CREATED:20211109T190439Z
DESCRIPTION:Let your inner author come out.  A writing group for beginners
 .
LAST-MODIFIED:20211109T190451Z
LOCATION:NBTL Meeting Room
URL:https://northbranch.ploud.net/news-events/lib-cal/writing-group-1
END:VEVENT
BEGIN:VTIMEZONE
TZID:US/Eastern
X-LIC-LOCATION:US/Eastern
BEGIN:STANDARD
DTSTART:20211107T010000
TZNAME:EST
TZOFFSETFROM:-0400
TZOFFSETTO:-0500
END:STANDARD
END:VTIMEZONE
END:VCALENDAR
