BEGIN:VCALENDAR
VERSION:2.0
PRODID:-//Plone.org//NONSGML plone.app.event//EN
X-WR-TIMEZONE:US/Eastern
BEGIN:VEVENT
SUMMARY:Writing Workshop
DTSTART;TZID=US/Eastern:20190307T160000
DTEND;TZID=US/Eastern:20190307T180000
DTSTAMP:20260420T140705Z
UID:ea9ba63be3b045ce9fbaedab3d8cfe6e@saas_stack_varnish:6080
ATTENDEE;CN="Geared toward teens and adults";ROLE=REQ-PARTICIPANT:Geared t
 oward teens and adults
CONTACT:Christi Mortell\, 8106882282\, northbranchlibrary@northbranchlibra
 ry.net
CREATED:20190205T165254Z
DESCRIPTION:Author Christine Debusk returns for a workshop.  She'll share 
 tips on how to find your voice as an author.  As well as tips for writing 
 and publishing.
LAST-MODIFIED:20190205T165258Z
LOCATION:NBTL Meeting Room
URL:https://northbranch.ploud.net/news-events/lib-cal/writing-workshop-1
END:VEVENT
BEGIN:VTIMEZONE
TZID:US/Eastern
X-LIC-LOCATION:US/Eastern
BEGIN:STANDARD
DTSTART:20181104T010000
TZNAME:EST
TZOFFSETFROM:-0400
TZOFFSETTO:-0500
END:STANDARD
END:VTIMEZONE
END:VCALENDAR
