BEGIN:VCALENDAR
VERSION:2.0
PRODID:-//Plone.org//NONSGML plone.app.event//EN
X-WR-TIMEZONE:US/Eastern
BEGIN:VEVENT
SUMMARY:Writing Workshop
DTSTART;TZID=US/Eastern:20180215T160000
DTEND;TZID=US/Eastern:20180215T180000
DTSTAMP:20260420T185708Z
UID:f99e9bf7b5474629b3288b9779e7dadc@saas_stack_varnish:6080
ATTENDEE;CN="Those interested in becoming authors and writers.";ROLE=REQ-P
 ARTICIPANT:Those interested in becoming authors and writers.
CONTACT:Kelli Lovasz\, 810-688-2282\, northbranchlibrary@northbranchlibrar
 y.net
CREATED:20180104T151252Z
DESCRIPTION:Christina Debusk returns to the NBTL to share tips and techniq
 ues to become a writer.  Ghost writing and Freelancing writing will be dis
 cussed.  We will also use this time to set up writing groups to continue t
 hroughout the year.
LAST-MODIFIED:20180104T151257Z
LOCATION:NBTL Meeting Room
URL:https://northbranch.ploud.net/news-events/lib-cal/writing-workshop
END:VEVENT
BEGIN:VTIMEZONE
TZID:US/Eastern
X-LIC-LOCATION:US/Eastern
BEGIN:STANDARD
DTSTART:20171105T010000
TZNAME:EST
TZOFFSETFROM:-0400
TZOFFSETTO:-0500
END:STANDARD
END:VTIMEZONE
END:VCALENDAR
