BEGIN:VCALENDAR
VERSION:2.0
PRODID:-//Plone.org//NONSGML plone.app.event//EN
X-WR-TIMEZONE:US/Eastern
BEGIN:VEVENT
SUMMARY:YL Oil Craft Make & Take
DTSTART;TZID=US/Eastern:20151128T103000
DTEND;TZID=US/Eastern:20151128T123000
DTSTAMP:20260420T162548Z
UID:fb143b9560b444dc9e9a737175f74a18@saas_stack_varnish:6080
ATTENDEE;CN="Adults only";ROLE=REQ-PARTICIPANT:Adults only
CONTACT:Dee Lovasz\, 810-516-4961
CREATED:20151109T183106Z
DESCRIPTION:Dee Lovasz will be presenting 3 make & take crafts using YL Oi
 ls  She supplies all materials.  For $10 per person.  You make Cedar wood 
 Deodorant\, Exfoliating Lip Scrub and a natural diffuser.  This is an inde
 pendent program
LAST-MODIFIED:20151109T183112Z
LOCATION:NBTL Meeting Room
URL:https://northbranch.ploud.net/news-events/lib-cal/yl-oil-craft-make-ta
 ke
END:VEVENT
BEGIN:VTIMEZONE
TZID:US/Eastern
X-LIC-LOCATION:US/Eastern
BEGIN:STANDARD
DTSTART:20151101T010000
TZNAME:EST
TZOFFSETFROM:-0400
TZOFFSETTO:-0500
END:STANDARD
END:VTIMEZONE
END:VCALENDAR
