BEGIN:VCALENDAR
VERSION:2.0
PRODID:-//Plone.org//NONSGML plone.app.event//EN
X-WR-TIMEZONE:US/Eastern
BEGIN:VEVENT
SUMMARY:Zootopia Movie Day
DTSTART;TZID=US/Eastern:20160823T123000
DTEND;TZID=US/Eastern:20160823T143000
DTSTAMP:20260420T221129Z
UID:7f954c698d5541d3825261ecfef0c994@saas_stack_varnish:6080
CONTACT:Kelli Lovasz or Christi Mortell\, 810-688-2282
CREATED:20160815T160722Z
DESCRIPTION:We will be having a craft and showing the movie Zootopia for o
 ur end of summer celebration. 
LAST-MODIFIED:20160817T174627Z
LOCATION:North Branch Township Library
URL:https://northbranch.ploud.net/news-events/lib-cal/zootopia-movie-day
END:VEVENT
BEGIN:VTIMEZONE
TZID:US/Eastern
X-LIC-LOCATION:US/Eastern
BEGIN:DAYLIGHT
DTSTART:20160313T030000
TZNAME:EDT
TZOFFSETFROM:-0500
TZOFFSETTO:-0400
END:DAYLIGHT
END:VTIMEZONE
END:VCALENDAR
