BEGIN:VCALENDAR
VERSION:2.0
PRODID:-//Plone.org//NONSGML plone.app.event//EN
X-WR-TIMEZONE:US/Eastern
BEGIN:VEVENT
SUMMARY:NBTL Board of Trustees
DTSTART;TZID=US/Eastern:20171114T160000
DTEND;TZID=US/Eastern:20171114T170000
DTSTAMP:20260419T184401Z
UID:9d379ffd0bf1472cab5c6006275b7d1f@saas_stack_varnish:6080
RRULE:FREQ=MONTHLY;UNTIL=20180313T000000;BYDAY=+2TU
ATTENDEE;CN=Public;ROLE=REQ-PARTICIPANT:Public
CONTACT:Jan Gottschalk\, 810-688-2282\, northbranchlibrary@northbranchlibr
 ary.net
CREATED:20171114T165707Z
DESCRIPTION:Monthly meeting of the North Branch Township Library Board of 
 Trustees.  Public is welcome and encouraged to attend.
LAST-MODIFIED:20171114T165714Z
LOCATION:NBTL Meeting Room
URL:https://northbranch.ploud.net/news-events/lib-events/nbtl-board-of-tru
 stees
END:VEVENT
BEGIN:VTIMEZONE
TZID:US/Eastern
X-LIC-LOCATION:US/Eastern
BEGIN:STANDARD
DTSTART:20171105T010000
TZNAME:EST
TZOFFSETFROM:-0400
TZOFFSETTO:-0500
END:STANDARD
END:VTIMEZONE
END:VCALENDAR
