BEGIN:VCALENDAR
VERSION:2.0
PRODID:-//Plone.org//NONSGML plone.app.event//EN
X-WR-TIMEZONE:US/Eastern
BEGIN:VEVENT
SUMMARY:Fraud Prevention Presentation
DTSTART;TZID=US/Eastern:20171012T170000
DTEND;TZID=US/Eastern:20171012T180000
DTSTAMP:20260419T165209Z
UID:3dd5adb5545344488e966d632ef4411f@saas_stack_varnish:6080
CONTACT:Kelli Lovasz\, 810-688-2282\, northbranchlibrary@northbranchlibrar
 y.net
CREATED:20170912T195342Z
DESCRIPTION:Crooks and Scammers come up with new scams every year to scam 
 millions of people.  Trooper Mark Swales of the Michigan State Police will
  be teaching us how to avoid being a victim of those scams.
LAST-MODIFIED:20170912T195350Z
LOCATION:NBTL Meeting Room
URL:https://northbranch.ploud.net/news-events/lib-news/fraud-prevention-pr
 esentation
END:VEVENT
BEGIN:VTIMEZONE
TZID:US/Eastern
X-LIC-LOCATION:US/Eastern
BEGIN:DAYLIGHT
DTSTART:20170312T030000
TZNAME:EDT
TZOFFSETFROM:-0500
TZOFFSETTO:-0400
END:DAYLIGHT
END:VTIMEZONE
END:VCALENDAR
